BEGIN:VCALENDAR
VERSION:2.0
PRODID:-//Smith Center for Healing and the Arts - ECPv6.15.20//NONSGML v1.0//EN
CALSCALE:GREGORIAN
METHOD:PUBLISH
X-WR-CALNAME:Smith Center for Healing and the Arts
X-ORIGINAL-URL:https://smithcenter.org
X-WR-CALDESC:Events for Smith Center for Healing and the Arts
REFRESH-INTERVAL;VALUE=DURATION:PT1H
X-Robots-Tag:noindex
X-PUBLISHED-TTL:PT1H
BEGIN:VTIMEZONE
TZID:America/New_York
BEGIN:DAYLIGHT
TZOFFSETFROM:-0500
TZOFFSETTO:-0400
TZNAME:EDT
DTSTART:20240310T070000
END:DAYLIGHT
BEGIN:STANDARD
TZOFFSETFROM:-0400
TZOFFSETTO:-0500
TZNAME:EST
DTSTART:20241103T060000
END:STANDARD
BEGIN:DAYLIGHT
TZOFFSETFROM:-0500
TZOFFSETTO:-0400
TZNAME:EDT
DTSTART:20250309T070000
END:DAYLIGHT
BEGIN:STANDARD
TZOFFSETFROM:-0400
TZOFFSETTO:-0500
TZNAME:EST
DTSTART:20251102T060000
END:STANDARD
BEGIN:DAYLIGHT
TZOFFSETFROM:-0500
TZOFFSETTO:-0400
TZNAME:EDT
DTSTART:20260308T070000
END:DAYLIGHT
BEGIN:STANDARD
TZOFFSETFROM:-0400
TZOFFSETTO:-0500
TZNAME:EST
DTSTART:20261101T060000
END:STANDARD
END:VTIMEZONE
BEGIN:VEVENT
DTSTART;TZID=America/New_York:20251106T150000
DTEND;TZID=America/New_York:20251106T163000
DTSTAMP:20260420T101227
CREATED:20250913T175021Z
LAST-MODIFIED:20251008T220204Z
UID:21662-1762441200-1762446600@smithcenter.org
SUMMARY:Canceled - Holding Both: Facing Climate Crisis and Cancer in Community
DESCRIPTION:Holding Both: Facing Climate Crisis and Cancer in Community (6-Week Series)\n\n\n\nA ‘Work That Reconnects’ Podcast Club\n\n\n\nThis virtual podcast club is an opportunity to experience the fullness of our feelings – fear\, anger\, grief\, love\, gratitude and hope – as we reflect on the reality of living with cancer at a time when our whole planet’s health is at risk. This work can only truly happen in community. \n\n\n\nStrengthened by our shared purpose\, we will listen to We Are the Great Turning\, a new podcast featuring revered climate activist and Buddhist scholar Joanna Macy and her dear friend\, mentee and fellow activist Jess Serrante in conversation about the Work That Reconnects. \n\n\n\nDeveloped by Joanna Macy over decades of facilitating groups around the world\, the Work That Reconnects is a process for navigating climate grief in community that allows us to ground into our gratitude for life\, honor our pain for the world\, see with new / ancient eyes and go forth with new purpose. In our weekly meetings\, we will discuss podcast episodes\, engage in practices from the Work That Reconnects\, and – above all – reflect on what this courageous act of caring means in the context of a cancer experience. \n\n\n\nThis group will meet for 6 weeks on Thursdays from October 9 – November 13 from 3:00-4:30pm EST on Zoom. Here are the remaining meeting dates: \n\n\n\n\nNovember 6 & 13\n\n\n\n\n\n\n\n\n\n\nFacilitators\n\n\n    \n        \n            \n                \n                    \n                            \n                                \n                                                                            \n                                                                                    \n                                                                        \n                                        \n                                            \n                                                Program Facilitator                                                \,                                             \n                                            Susan Oetgen\n                                        \n                                    \n                                \n                            \n\n                                        \n            \n        \n    \n\n\n\n\n\n\n\n\n\n\n\n\n\n\n\n\nOrganizer
URL:https://smithcenter.org/program/holding-both-facing-climate-crisis-and-cancer-in-community-5/
CATEGORIES:Cancer Support,Health and Wellness,Educational Groups
LOCATION:https://smithcenter.org/program/holding-both-facing-climate-crisis-and-cancer-in-community-5/
END:VEVENT
END:VCALENDAR