BEGIN:VCALENDAR
VERSION:2.0
PRODID:-//Smith Center for Healing and the Arts - ECPv6.15.20//NONSGML v1.0//EN
CALSCALE:GREGORIAN
METHOD:PUBLISH
X-WR-CALNAME:Smith Center for Healing and the Arts
X-ORIGINAL-URL:https://smithcenter.org
X-WR-CALDESC:Events for Smith Center for Healing and the Arts
REFRESH-INTERVAL;VALUE=DURATION:PT1H
X-Robots-Tag:noindex
X-PUBLISHED-TTL:PT1H
BEGIN:VTIMEZONE
TZID:America/New_York
BEGIN:DAYLIGHT
TZOFFSETFROM:-0500
TZOFFSETTO:-0400
TZNAME:EDT
DTSTART:20250309T070000
END:DAYLIGHT
BEGIN:STANDARD
TZOFFSETFROM:-0400
TZOFFSETTO:-0500
TZNAME:EST
DTSTART:20251102T060000
END:STANDARD
BEGIN:DAYLIGHT
TZOFFSETFROM:-0500
TZOFFSETTO:-0400
TZNAME:EDT
DTSTART:20260308T070000
END:DAYLIGHT
BEGIN:STANDARD
TZOFFSETFROM:-0400
TZOFFSETTO:-0500
TZNAME:EST
DTSTART:20261101T060000
END:STANDARD
BEGIN:DAYLIGHT
TZOFFSETFROM:-0500
TZOFFSETTO:-0400
TZNAME:EDT
DTSTART:20270314T070000
END:DAYLIGHT
BEGIN:STANDARD
TZOFFSETFROM:-0400
TZOFFSETTO:-0500
TZNAME:EST
DTSTART:20271107T060000
END:STANDARD
END:VTIMEZONE
BEGIN:VEVENT
DTSTART;TZID=America/New_York:20260528T110000
DTEND;TZID=America/New_York:20260528T120000
DTSTAMP:20260421T082741
CREATED:20260415T164725Z
LAST-MODIFIED:20260415T164732Z
UID:25456-1779966000-1779969600@smithcenter.org
SUMMARY:Lung Cancer Support Group
DESCRIPTION:This monthly support group is open to adults with lung cancer\, survivors\, and caregivers. Facilitated by a licensed clinical social worker\, the group will offer emotional support and educational talks. \n\n\n\nThe Lung Cancer Support Group meets Monthly on the 4th Thursday from 11:00am-12:00pm ET on Zoom. \n\n\n\n\n\n\n\n\n\nFacilitators\n\n\n    \n        \n            \n                \n                    \n                            \n                                \n                                                                            \n                                                                                    \n                                                                        \n                                        \n                                            \n                                                Support Group Facilitator                                                \,                                             \n                                            Jessica Gelfarb\, LICSW\, OSW-C\n                                        \n                                    \n                                \n                            \n\n                                        \n            \n        \n    \n\n\n\n\n\n\n\n\n\n\n\n\n\n\n\n\nOrganizer\n\n\n\n\n\n\n\nOrganizer
URL:https://smithcenter.org/program/lung-cancer-support-group/
CATEGORIES:Cancer Support,Support Groups
ORGANIZER;CN="GW Cancer Center":MAILTO:cancercenter@gwu.edu
LOCATION:https://us06web.zoom.us/j/83128541650
END:VEVENT
END:VCALENDAR