BEGIN:VCALENDAR
VERSION:2.0
PRODID:-//Smith Center for Healing and the Arts - ECPv6.15.20//NONSGML v1.0//EN
CALSCALE:GREGORIAN
METHOD:PUBLISH
X-WR-CALNAME:Smith Center for Healing and the Arts
X-ORIGINAL-URL:https://smithcenter.org
X-WR-CALDESC:Events for Smith Center for Healing and the Arts
REFRESH-INTERVAL;VALUE=DURATION:PT1H
X-Robots-Tag:noindex
X-PUBLISHED-TTL:PT1H
BEGIN:VTIMEZONE
TZID:America/New_York
BEGIN:DAYLIGHT
TZOFFSETFROM:-0500
TZOFFSETTO:-0400
TZNAME:EDT
DTSTART:20250309T070000
END:DAYLIGHT
BEGIN:STANDARD
TZOFFSETFROM:-0400
TZOFFSETTO:-0500
TZNAME:EST
DTSTART:20251102T060000
END:STANDARD
BEGIN:DAYLIGHT
TZOFFSETFROM:-0500
TZOFFSETTO:-0400
TZNAME:EDT
DTSTART:20260308T070000
END:DAYLIGHT
BEGIN:STANDARD
TZOFFSETFROM:-0400
TZOFFSETTO:-0500
TZNAME:EST
DTSTART:20261101T060000
END:STANDARD
BEGIN:DAYLIGHT
TZOFFSETFROM:-0500
TZOFFSETTO:-0400
TZNAME:EDT
DTSTART:20270314T070000
END:DAYLIGHT
BEGIN:STANDARD
TZOFFSETFROM:-0400
TZOFFSETTO:-0500
TZNAME:EST
DTSTART:20271107T060000
END:STANDARD
END:VTIMEZONE
BEGIN:VEVENT
DTSTART;TZID=America/New_York:20260519T190000
DTEND;TZID=America/New_York:20260519T200000
DTSTAMP:20260421T081753
CREATED:20260420T193724Z
LAST-MODIFIED:20260420T193727Z
UID:25668-1779217200-1779220800@smithcenter.org
SUMMARY:Monthly Caregiver Support Group
DESCRIPTION:Starting April 21\, 2026\, join a monthly Caregiver Support Group offered by Cancer Support Community DC\, a supportive space for those caring for someone affected by cancer. \n\n\n\nThis group meets virtually via Zoom\, making it easy to join from home. \n\n\n\nConnect with others who understand the caregiving journey\, share experiences\, and explore strategies for self-care and balance. \n\n\n\nThis group meets every third Tuesday of the month from 7:00–8:00 PM ET on Zoom. \n\n\n\nTo register\, visit <this link> \n\n\n\n\n\n\n\nFacilitators\n\n\n    \n        \n            \n                \n                    \n                            \n                                \n                                                                            \n                                                                                    \n                                                                        \n                                        \n                                            \n                                                Support Group Facilitator                                                \,                                             \n                                            Crystal Joseph\, LCPC\, LPC\, ACS\n                                        \n                                    \n                                \n                            \n\n                                        \n            \n        \n    \n\n\n\n\n\n\n\n\n\n\n\n\n\n\n\n\nOrganizer\n\n\n\n\n\n\n\nOrganizer
URL:https://smithcenter.org/program/monthly-caregiver-support-group-2/
CATEGORIES:Cancer Support,Support Groups
ORGANIZER;CN="Cancer Support Community DC":MAILTO:llove@cancersupportcommunity.org
END:VEVENT
END:VCALENDAR