BEGIN:VCALENDAR
VERSION:2.0
PRODID:-//Smith Center for Healing and the Arts - ECPv6.15.20//NONSGML v1.0//EN
CALSCALE:GREGORIAN
METHOD:PUBLISH
X-WR-CALNAME:Smith Center for Healing and the Arts
X-ORIGINAL-URL:https://smithcenter.org
X-WR-CALDESC:Events for Smith Center for Healing and the Arts
REFRESH-INTERVAL;VALUE=DURATION:PT1H
X-Robots-Tag:noindex
X-PUBLISHED-TTL:PT1H
BEGIN:VTIMEZONE
TZID:America/New_York
BEGIN:DAYLIGHT
TZOFFSETFROM:-0500
TZOFFSETTO:-0400
TZNAME:EDT
DTSTART:20250309T070000
END:DAYLIGHT
BEGIN:STANDARD
TZOFFSETFROM:-0400
TZOFFSETTO:-0500
TZNAME:EST
DTSTART:20251102T060000
END:STANDARD
BEGIN:DAYLIGHT
TZOFFSETFROM:-0500
TZOFFSETTO:-0400
TZNAME:EDT
DTSTART:20260308T070000
END:DAYLIGHT
BEGIN:STANDARD
TZOFFSETFROM:-0400
TZOFFSETTO:-0500
TZNAME:EST
DTSTART:20261101T060000
END:STANDARD
BEGIN:DAYLIGHT
TZOFFSETFROM:-0500
TZOFFSETTO:-0400
TZNAME:EDT
DTSTART:20270314T070000
END:DAYLIGHT
BEGIN:STANDARD
TZOFFSETFROM:-0400
TZOFFSETTO:-0500
TZNAME:EST
DTSTART:20271107T060000
END:STANDARD
END:VTIMEZONE
BEGIN:VEVENT
DTSTART;TZID=America/New_York:20260422T180000
DTEND;TZID=America/New_York:20260422T190000
DTSTAMP:20260422T044850
CREATED:20260310T180541Z
LAST-MODIFIED:20260310T180545Z
UID:10001159-1776880800-1776884400@smithcenter.org
SUMMARY:Loss of a Parent to Cancer Support Group
DESCRIPTION:The loss of a parent from cancer brings with it many complex feelings. Sadness\, anger\, and regret are just a few of the feelings you may experience. Sometimes friends – and even family members – don’t understand these feelings. \n\n\n\nThis support group provides a monthly opportunity to join a group of people who may understand. \n\n\n\nThe Loss of a Parent to Cancer Support Group meets Monthly on a Wednesday from 6:00-7:00pm ET. \n\n\n\n\n\n\n\n\n\nFacilitators\n\n\n    \n        \n            \n                \n                    \n                            \n                                \n                                                                            \n                                                                                    \n                                                                        \n                                        \n                                            \n                                                Support Group Facilitator                                                \,                                             \n                                            Andrea Levine\n                                        \n                                    \n                                \n                            \n\n                                        \n            \n        \n    \n\n\n\n\n\n\n\n\n\n\n\n\n\n\n\n\nOrganizer
URL:https://smithcenter.org/program/loss-of-a-parent-to-cancer-support-group-8/
CATEGORIES:Support Groups,Grief Support
LOCATION:https://us06web.zoom.us/j/89843016733
END:VEVENT
BEGIN:VEVENT
DTSTART;TZID=America/New_York:20260423T110000
DTEND;TZID=America/New_York:20260423T120000
DTSTAMP:20260422T044850
CREATED:20260310T180826Z
LAST-MODIFIED:20260326T142559Z
UID:10001160-1776942000-1776945600@smithcenter.org
SUMMARY:Lung Cancer Support Group
DESCRIPTION:This monthly support group is open to adults with lung cancer\, survivors\, and caregivers. Facilitated by a licensed clinical social worker\, the group will offer emotional support and educational talks. \n\n\n\nThe Lung Cancer Support Group meets Monthly on the 4th Thursday from 11:00am-12:00pm ET on Zoom. \n\n\n\n\n\n\n\n\n\nFacilitators\n\n\n    \n        \n            \n                \n                    \n                            \n                                \n                                                                            \n                                                                                    \n                                                                        \n                                        \n                                            \n                                                Support Group Facilitator                                                \,                                             \n                                            Jessica Gelfarb\, LICSW\, OSW-C\n                                        \n                                    \n                                \n                            \n\n                                        \n            \n        \n    \n\n\n\n\n\n\n\n\n\n\n\n\n\n\n\n\nOrganizer\n\n\n\n\n\n\n\nOrganizer
URL:https://smithcenter.org/program/lung-cancer-support-group-8/
CATEGORIES:Cancer Support,Support Groups
ORGANIZER;CN="GW Cancer Center":MAILTO:cancercenter@gwu.edu
LOCATION:https://us06web.zoom.us/j/83128541650
END:VEVENT
BEGIN:VEVENT
DTSTART;TZID=America/New_York:20260425T090000
DTEND;TZID=America/New_York:20260425T120000
DTSTAMP:20260422T044850
CREATED:20260310T173926Z
LAST-MODIFIED:20260310T173930Z
UID:10001155-1777107600-1777118400@smithcenter.org
SUMMARY:Nueva Vida Grupo de Apoyo (en Español)
DESCRIPTION:Nueva Vida es una organización independiente\, sin fines de lucro\, que proporciona servicios integrales de cáncer gratuitos\, a las familias latinas en el Distrito de Columbia\, Virginia del Norte (hasta el sur de Prince William County)\, Suburban Maryland (Condados de Montgomery y Prince George)\, Richmond\, y Baltimore. Otros servicios incluyen educación y divulgación en la comunidad latina\, asi como navegación de pacientes para exámenes de detección y tratamiento de cáncer.  \n\n\n\nEn asociación con Smith Center\, Nueva Vida tendrá grupos de apoyo que se enfocan en el apoyo al trauma asociado con el diagnóstico de cáncer. Estos grupos proporcionan a las latinas la oportunidad de identificar y expresar sus sentimientos\, en un lugar seguro\, y lleno de empatía\, así como compartir sus sentimientos con otras personas que están o han pasado por similares circunstancias. Las reuniones semanales\, se combinan con una actividad de reducción del estrés (Zumba o Yoga).  \n\n\n\nEste programa se ofrece prácticamente a través de Zoom. Regístrese en Claudia al 202.384.8342 para recibir el enlace Zoom para participar. \n\n\n\n\n\n\n\n\nNueva Vida is an independent nonprofit that provides free\, comprehensive\, culturally competent cancer services to medically underserved Latino families in the District of Columbia\, Northern Virginia (as far south as Prince William County)\, Suburban Maryland (Montgomery & Prince George’s Counties)\, Richmond\, and Baltimore. Other services include outreach to the Latino community and Patient Navigation for cancer screenings and treatment. \n\n\n\nIn partnership with Smith Center\, Nueva Vida provides support groups that are focused on supporting the trauma associated with a cancer diagnosis. These groups provide Latina women the opportunity to experience a catharsis of feelings\, where they feel safe to identify\, verbalize\, empathize\, and share their feelings with others who are in similar circumstances. All support group meetings are paired with a stress reduction activity (either Zumba or Yoga). \n\n\n\nThis program is being offered virtually through Zoom. Please register to Claudia at 202.384.8342 to receive the Zoom link to participate. \n\n\n\n\n\n\n\nFacilitators\n\n\n    \n        \n            \n                \n                    \n                            \n                                \n                                                                            \n                                                                                    \n                                                                        \n                                        \n                                            \n                                                                                                \,                                             \n                                            Nueva Vida\n                                        \n                                    \n                                \n                            \n\n                                        \n            \n        \n    \n\n\n\n\n\n\n\n\n\n\n\n\n\n\n\n\nOrganizer
URL:https://smithcenter.org/program/nueva-vida-grupo-de-apoyo-en-espanol-23/
CATEGORIES:Cancer Support,Support Groups
ORGANIZER;CN="Nueva Vida":MAILTO:info@nueva-vida.org
END:VEVENT
BEGIN:VEVENT
DTSTART;TZID=America/New_York:20260428T110000
DTEND;TZID=America/New_York:20260428T120000
DTSTAMP:20260422T044850
CREATED:20260310T181958Z
LAST-MODIFIED:20260310T182002Z
UID:10001162-1777374000-1777377600@smithcenter.org
SUMMARY:Leukemia and Lymphoma Support Group
DESCRIPTION:This monthly support group is designed for adult patients/survivors diagnosed with Leukemia or Lymphoma. The group will incorporate education lectures coupled with emotional support. \n\n\n\n\nThis group is open to people of all ages (18+) who are at any stage of the disease process. \n\n\n\n\nThe Leukemia and Lymphoma Support Group meets monthly on the 4th Tuesday from 11:00am-12:00pm ET. \n\n\n\n\n\n\n\n\n\nFacilitators\n\n\n    \n        \n            \n                \n                    \n                            \n                                \n                                                                            \n                                                                                    \n                                                                        \n                                        \n                                            \n                                                Support Group Facilitator                                                \,                                             \n                                            Jessica Gelfarb\, LICSW\, OSW-C\n                                        \n                                    \n                                \n                            \n\n                        \n                            \n                                \n                                                                            \n                                                                                    \n                                                                        \n                                        \n                                            \n                                                Support Group Facilitator                                                \,                                             \n                                            Sara Richman\, LICSW\, OSW-C\n                                        \n                                    \n                                \n                            \n\n                                        \n            \n        \n    \n\n\n\n\n\n\n\n\n\n\n\n\n\n\n\n\nOrganizer\n\n\n\n\n\n\n\nOrganizer
URL:https://smithcenter.org/program/leukemia-and-lymphoma-support-group-8/
CATEGORIES:Cancer Support,Support Groups
ORGANIZER;CN="GW Cancer Center":MAILTO:cancercenter@gwu.edu
LOCATION:https://us06web.zoom.us/j/83942821577
END:VEVENT
BEGIN:VEVENT
DTSTART;TZID=America/New_York:20260428T190000
DTEND;TZID=America/New_York:20260428T200000
DTSTAMP:20260422T044850
CREATED:20260420T183545Z
LAST-MODIFIED:20260421T190048Z
UID:10001263-1777402800-1777406400@smithcenter.org
SUMMARY:Monthly Caregiver Support Group
DESCRIPTION:Please note\, the group will meet on the 4th Tuesday this month only. \n\n\n\nStarting April 28\, 2026\, join a monthly Caregiver Support Group offered by Cancer Support Community DC\, a supportive space for those caring for someone affected by cancer. \n\n\n\nThis group meets virtually via Zoom\, making it easy to join from home. \n\n\n\nConnect with others who understand the caregiving journey\, share experiences\, and explore strategies for self-care and balance. \n\n\n\nThis group meets every third Tuesday of the month from 7:00–8:00 PM ET on Zoom. \n\n\n\nTo register\, visit <this link> \n\n\n\n\n\n\n\nFacilitators\n\n\n    \n        \n            \n                \n                    \n                            \n                                \n                                                                            \n                                                                                    \n                                                                        \n                                        \n                                            \n                                                Support Group Facilitator                                                \,                                             \n                                            Crystal Joseph\, LCPC\, LPC\, ACS\n                                        \n                                    \n                                \n                            \n\n                                        \n            \n        \n    \n\n\n\n\n\n\n\n\n\n\n\n\n\n\n\n\nOrganizer\n\n\n\n\n\n\n\nOrganizer
URL:https://smithcenter.org/program/monthly-caregiver-support-group/
CATEGORIES:Cancer Support,Support Groups
ORGANIZER;CN="Cancer Support Community DC":MAILTO:llove@cancersupportcommunity.org
END:VEVENT
END:VCALENDAR